BEGIN:VCALENDAR
VERSION:2.0
PRODID:-//FRG Borussia - ECPv6.15.20//NONSGML v1.0//EN
CALSCALE:GREGORIAN
METHOD:PUBLISH
X-WR-CALNAME:FRG Borussia
X-ORIGINAL-URL:https://frg-borussia.de
X-WR-CALDESC:Veranstaltungen für FRG Borussia
REFRESH-INTERVAL;VALUE=DURATION:PT1H
X-Robots-Tag:noindex
X-PUBLISHED-TTL:PT1H
BEGIN:VTIMEZONE
TZID:Europe/Berlin
BEGIN:DAYLIGHT
TZOFFSETFROM:+0100
TZOFFSETTO:+0200
TZNAME:CEST
DTSTART:20250330T010000
END:DAYLIGHT
BEGIN:STANDARD
TZOFFSETFROM:+0200
TZOFFSETTO:+0100
TZNAME:CET
DTSTART:20251026T010000
END:STANDARD
BEGIN:DAYLIGHT
TZOFFSETFROM:+0100
TZOFFSETTO:+0200
TZNAME:CEST
DTSTART:20260329T010000
END:DAYLIGHT
BEGIN:STANDARD
TZOFFSETFROM:+0200
TZOFFSETTO:+0100
TZNAME:CET
DTSTART:20261025T010000
END:STANDARD
BEGIN:DAYLIGHT
TZOFFSETFROM:+0100
TZOFFSETTO:+0200
TZNAME:CEST
DTSTART:20270328T010000
END:DAYLIGHT
BEGIN:STANDARD
TZOFFSETFROM:+0200
TZOFFSETTO:+0100
TZNAME:CET
DTSTART:20271031T010000
END:STANDARD
END:VTIMEZONE
BEGIN:VEVENT
DTSTART;VALUE=DATE:20260919
DTEND;VALUE=DATE:20260921
DTSTAMP:20260419T183801
CREATED:20260408T114017Z
LAST-MODIFIED:20260408T114017Z
UID:3956-1789776000-1789948799@frg-borussia.de
SUMMARY:Grossauheimer Kurzstrecken-Regatta
DESCRIPTION:
URL:https://frg-borussia.de/event/grossauheimer-kurzstrecken-regatta/
CATEGORIES:Regatta
END:VEVENT
BEGIN:VEVENT
DTSTART;VALUE=DATE:20260926
DTEND;VALUE=DATE:20260927
DTSTAMP:20260419T183801
CREATED:20260408T114156Z
LAST-MODIFIED:20260408T114156Z
UID:3960-1790380800-1790467199@frg-borussia.de
SUMMARY:Roseninsel-8er\, Starnberg
DESCRIPTION:
URL:https://frg-borussia.de/event/roseninsel-8er-starnberg/
CATEGORIES:Regatta
END:VEVENT
BEGIN:VEVENT
DTSTART;VALUE=DATE:20260926
DTEND;VALUE=DATE:20260927
DTSTAMP:20260419T183801
CREATED:20260408T114315Z
LAST-MODIFIED:20260408T114315Z
UID:3962-1790380800-1790467199@frg-borussia.de
SUMMARY:Grüner Moselpokal\, Langstrecke\, Bernkastel-Kues
DESCRIPTION:
URL:https://frg-borussia.de/event/gruener-moselpokal-langstrecke-bernkastel-kues/
CATEGORIES:Regatta
END:VEVENT
BEGIN:VEVENT
DTSTART;VALUE=DATE:20260926
DTEND;VALUE=DATE:20260928
DTSTAMP:20260419T183801
CREATED:20260408T114102Z
LAST-MODIFIED:20260408T114102Z
UID:3958-1790380800-1790553599@frg-borussia.de
SUMMARY:Hess. Landesmeisterschaften\, Eschwege
DESCRIPTION:
URL:https://frg-borussia.de/event/hess-landesmeisterschaften-eschwege/
CATEGORIES:Regatta
END:VEVENT
BEGIN:VEVENT
DTSTART;VALUE=DATE:20261003
DTEND;VALUE=DATE:20261004
DTSTAMP:20260419T183801
CREATED:20260408T114435Z
LAST-MODIFIED:20260408T114435Z
UID:3964-1790985600-1791071999@frg-borussia.de
SUMMARY:Düsseldorfer Rheinmarathon
DESCRIPTION:
URL:https://frg-borussia.de/event/duesseldorfer-rheinmarathon/
CATEGORIES:Regatta
END:VEVENT
BEGIN:VEVENT
DTSTART;VALUE=DATE:20261017
DTEND;VALUE=DATE:20261018
DTSTAMP:20260419T183801
CREATED:20260408T114517Z
LAST-MODIFIED:20260408T114517Z
UID:3966-1792195200-1792281599@frg-borussia.de
SUMMARY:Würzburger Ruderregatta
DESCRIPTION:
URL:https://frg-borussia.de/event/wuerzburger-ruderregatta/
CATEGORIES:Regatta
END:VEVENT
BEGIN:VEVENT
DTSTART;VALUE=DATE:20261107
DTEND;VALUE=DATE:20261108
DTSTAMP:20260419T183801
CREATED:20260408T114559Z
LAST-MODIFIED:20260408T114559Z
UID:3968-1794009600-1794095999@frg-borussia.de
SUMMARY:Fari-Cup\, Hamburg
DESCRIPTION:
URL:https://frg-borussia.de/event/fari-cup-hamburg/
CATEGORIES:Regatta
END:VEVENT
BEGIN:VEVENT
DTSTART;VALUE=DATE:20261205
DTEND;VALUE=DATE:20261206
DTSTAMP:20260419T183801
CREATED:20260408T114647Z
LAST-MODIFIED:20260408T114647Z
UID:3970-1796428800-1796515199@frg-borussia.de
SUMMARY:Nikolaus-4er\, Mainz
DESCRIPTION:
URL:https://frg-borussia.de/event/nikolaus-4er-mainz/
CATEGORIES:Regatta
END:VEVENT
BEGIN:VEVENT
DTSTART;VALUE=DATE:20261206
DTEND;VALUE=DATE:20261207
DTSTAMP:20260419T183801
CREATED:20260115T092903Z
LAST-MODIFIED:20260220T093437Z
UID:3118-1796515200-1796601599@frg-borussia.de
SUMMARY:FRGB-Weihnachtsfeier
DESCRIPTION:
URL:https://frg-borussia.de/event/frgb-weihnachtsfeier/
CATEGORIES:Verein
END:VEVENT
END:VCALENDAR