BEGIN:VCALENDAR
VERSION:2.0
PRODID:-//FRG Borussia - ECPv6.15.20//NONSGML v1.0//EN
CALSCALE:GREGORIAN
METHOD:PUBLISH
X-ORIGINAL-URL:https://frg-borussia.de
X-WR-CALDESC:Veranstaltungen für FRG Borussia
REFRESH-INTERVAL;VALUE=DURATION:PT1H
X-Robots-Tag:noindex
X-PUBLISHED-TTL:PT1H
BEGIN:VTIMEZONE
TZID:Europe/Berlin
BEGIN:DAYLIGHT
TZOFFSETFROM:+0100
TZOFFSETTO:+0200
TZNAME:CEST
DTSTART:20250330T010000
END:DAYLIGHT
BEGIN:STANDARD
TZOFFSETFROM:+0200
TZOFFSETTO:+0100
TZNAME:CET
DTSTART:20251026T010000
END:STANDARD
BEGIN:DAYLIGHT
TZOFFSETFROM:+0100
TZOFFSETTO:+0200
TZNAME:CEST
DTSTART:20260329T010000
END:DAYLIGHT
BEGIN:STANDARD
TZOFFSETFROM:+0200
TZOFFSETTO:+0100
TZNAME:CET
DTSTART:20261025T010000
END:STANDARD
BEGIN:DAYLIGHT
TZOFFSETFROM:+0100
TZOFFSETTO:+0200
TZNAME:CEST
DTSTART:20270328T010000
END:DAYLIGHT
BEGIN:STANDARD
TZOFFSETFROM:+0200
TZOFFSETTO:+0100
TZNAME:CET
DTSTART:20271031T010000
END:STANDARD
END:VTIMEZONE
BEGIN:VEVENT
DTSTART;VALUE=DATE:20260501
DTEND;VALUE=DATE:20260502
DTSTAMP:20260419T153540
CREATED:20260110T092006Z
LAST-MODIFIED:20260220T093636Z
UID:3112-1777593600-1777679999@frg-borussia.de
SUMMARY:Frankfurter Langstrecken-Regatta\, Frankfurt
DESCRIPTION:
URL:https://frg-borussia.de/event/frankfurter-langstrecken-regatta-frankfurt/
CATEGORIES:Regatta
END:VEVENT
BEGIN:VEVENT
DTSTART;VALUE=DATE:20260502
DTEND;VALUE=DATE:20260503
DTSTAMP:20260419T153540
CREATED:20260408T113033Z
LAST-MODIFIED:20260408T113033Z
UID:3935-1777680000-1777766399@frg-borussia.de
SUMMARY:Eurega\, Rhein
DESCRIPTION:
URL:https://frg-borussia.de/event/eurega-rhein/
CATEGORIES:Regatta
END:VEVENT
BEGIN:VEVENT
DTSTART;VALUE=DATE:20260509
DTEND;VALUE=DATE:20260511
DTSTAMP:20260419T153540
CREATED:20260408T113156Z
LAST-MODIFIED:20260408T113156Z
UID:3937-1778284800-1778457599@frg-borussia.de
SUMMARY:Regatta d. Offenbacher RG Undine
DESCRIPTION:
URL:https://frg-borussia.de/event/regatta-d-offenbacher-rg-undine/
CATEGORIES:Regatta
END:VEVENT
BEGIN:VEVENT
DTSTART;VALUE=DATE:20260516
DTEND;VALUE=DATE:20260518
DTSTAMP:20260419T153540
CREATED:20260408T113410Z
LAST-MODIFIED:20260408T113410Z
UID:3942-1778889600-1779062399@frg-borussia.de
SUMMARY:Heidelberger Ruder-Regatta
DESCRIPTION:
URL:https://frg-borussia.de/event/heidelberger-ruder-regatta-2/
CATEGORIES:Regatta
END:VEVENT
BEGIN:VEVENT
DTSTART;VALUE=DATE:20260523
DTEND;VALUE=DATE:20260526
DTSTAMP:20260419T153540
CREATED:20260408T113241Z
LAST-MODIFIED:20260408T113327Z
UID:3939-1779494400-1779753599@frg-borussia.de
SUMMARY:Gießener Pfingst-Regatta
DESCRIPTION:
URL:https://frg-borussia.de/event/heidelberger-ruder-regatta/
CATEGORIES:Regatta
END:VEVENT
END:VCALENDAR